BEGIN:VCALENDAR
VERSION:2.0
PRODID:-//Apple Inc.//iCal 4.0.4//EN
CALSCALE:GREGORIAN
BEGIN:VEVENT
DTSTART:20260614T170000
DTEND:20260614T180000
DESCRIPTION:Edward Simoni nimmt mit Panflöte, Violine und Querflöte zu einer stimmungsvollen Weltreise der Melodien mit.[...] http://www.kyffdates.de/veranstaltung/pqO4rp/SOLO-CONCERT
SUMMARY:SOLO CONCERT
LOCATION:Wiehe
UID:1
SEQUENCE:3
CREATED:20260422T172918
URL;VALUE=URI:http://www.kyffdates.de/veranstaltung/pqO4rp/SOLO-CONCERT 
DTSTAMP:20260422T172918
END:VEVENT
END:VCALENDAR